BEGIN:VCALENDAR
BEGIN:VEVENT
CLASS:PUBLIC
CREATED:20260423T165330
DESCRIPTION:This workshop provides a detailed overview of early intervention and transition services at age three to families and professionals who serve infants and toddlers with disabilities. It also includes information about procedural safeguards and tips and pointers for a successful transition.
DTEND:20200403T110000
DTSTAMP:20260423T165330
DTSTART:20200403T093000
LAST-MODIFIED:20091109T101015Z
LOCATION:TASK Alhambra, 1000 South Fremont Avenue, Building A1, Suite 1110, Unit 54, Alhambra, CA, 91803
SUMMARY;LANGUAGE=en-us:CANCELLED - Early Intervention and Transition Services at Age Three - ALHAMBRA
BEGIN:VALARM
TRIGGER:-PT1440M
ACTION:DISPLAY
DESCRIPTION:Reminder
END:VALARM
END:VEVENT
END:VCALENDAR
