BEGIN:VCALENDAR
BEGIN:VEVENT
CLASS:PUBLIC
CREATED:20260423T181645
DESCRIPTION:Este taller incluirá aplicaciones para estudiantes de secundaria y colegio. Incluiremos aplicaciones para lectura, escritura, matemáticas, habilidades de vida, habilidades sociales, organización y más. Venga a un taller informativo y rápido.
DTEND:20200324T114500
DTSTAMP:20260423T181645
DTSTART:20200324T090000
LAST-MODIFIED:20091109T101015Z
LOCATION:Padres Unidos por el Autismo (PUPA), 855 6th Street, Long Beach, CA, 90802
SUMMARY;LANGUAGE=en-us:CANCELLED - Aplicaciones para Estudiantes Mayores - LONG BEACH
BEGIN:VALARM
TRIGGER:-PT1440M
ACTION:DISPLAY
DESCRIPTION:Reminder
END:VALARM
END:VEVENT
END:VCALENDAR
