BEGIN:VCALENDAR
BEGIN:VEVENT
CLASS:PUBLIC
CREATED:20260423T181656
DESCRIPTION:Presentaremos tecnología específicamente relacionada con trastornos en el espectro del autismo y para aquellos con discapacidades del desarrollo, incluyendo programas de computadora y aplicaciones con las siguientes áreas de enfoque: modelado de video, habilidades sociales, habilidades para la vida, desarrollo de vocabulario, desarrollo del lenguaje, comunicación, interpretación de emociones y más. Ofreceremos muchas soluciones desde intervenciones de baja tecnología hasta dispositivos AAC de alta tecnología.
DTEND:20200323T110000
DTSTAMP:20260423T181656
DTSTART:20200323T090000
LAST-MODIFIED:20091109T101015Z
LOCATION:TASK Riverside (en Community Access and Disability Center), 6848 Magnolia Ave., Ste. 150, Riverside, CA, 92506
SUMMARY;LANGUAGE=en-us:CANCELLED - Tecnología de Asistencia para Autismo y Otras Discapacidades - RIVERSIDE
BEGIN:VALARM
TRIGGER:-PT1440M
ACTION:DISPLAY
DESCRIPTION:Reminder
END:VALARM
END:VEVENT
END:VCALENDAR
