BEGIN:VCALENDAR
BEGIN:VEVENT
CLASS:PUBLIC
CREATED:20260423T181816
DESCRIPTION:Transiciones pueden llenarse con anticipación y preguntas sobre lo que sucede a continuación. Este taller guia a padres y profesionales sobre los detalles de lo que pueden estar haciendo ahorita para prepararse para la escuela intermedia, así como consejos y estrategias que pueden usarse una vez que los estudiantes hacen la transición.
DTEND:20200224T110000
DTSTAMP:20260423T181816
DTSTART:20200224T090000
LAST-MODIFIED:20091109T101015Z
LOCATION:TASK Riverside (en Community Access and Disability Center), 6848 Magnolia Ave., Ste. 150, Riverside, CA, 92506
SUMMARY;LANGUAGE=en-us:Transición a la Escuela Intermedia - RIVERSIDE
BEGIN:VALARM
TRIGGER:-PT1440M
ACTION:DISPLAY
DESCRIPTION:Reminder
END:VALARM
END:VEVENT
END:VCALENDAR
