BEGIN:VCALENDAR
BEGIN:VEVENT
CLASS:PUBLIC
CREATED:20260423T181657
DESCRIPTION:¡únase a nosotros para aprender habilidades para ser empleado con éxito! Este taller interactivo ayudará alos adolescentes y adultos jóvenes a aprender herramientas para encontrar un trabajo, mantener un trabajo, abogar por sí mismos mientras están en el trabajo, y comunicarse y practicar la etiqueta social.
DTEND:20200327T160000
DTSTAMP:20260423T181657
DTSTART:20200327T140000
LAST-MODIFIED:20091109T101015Z
LOCATION:TASK San Diego, 3845 Spring Dr., Room 21, Spring Valley, CA, 91978
SUMMARY;LANGUAGE=en-us:CANCELLED - Consejos y Trucos para Conseguir y Mantener un Trabajo - SPRING VALLEY
BEGIN:VALARM
TRIGGER:-PT1440M
ACTION:DISPLAY
DESCRIPTION:Reminder
END:VALARM
END:VEVENT
END:VCALENDAR
