BEGIN:VCALENDAR
BEGIN:VEVENT
CLASS:PUBLIC
CREATED:20260423T181646
DESCRIPTION:Un resumen general de los derechos y protecciones bajo la ley IDEA y la Sección 504 de la Ley de Rehabilitación Vocacional, el valor del mantenimiento de archivos, el proceso de evaluación, líneas de tiempo y otros componentes legales del IEP, incluyendo metas y objetivos. Técnicas de comunicación son entremezcladas a lo largo del taller.
DTEND:20200225T120000
DTSTAMP:20260423T181646
DTSTART:20200225T100000
LAST-MODIFIED:20091109T101015Z
LOCATION:TASK San Diego, 3845 Spring Dr., Room 21, Spring Valley, CA, 91978
SUMMARY;LANGUAGE=en-us:Navegando IEPs - SPRING VALLEY
BEGIN:VALARM
TRIGGER:-PT1440M
ACTION:DISPLAY
DESCRIPTION:Reminder
END:VALARM
END:VEVENT
END:VCALENDAR
