BEGIN:VCALENDAR
BEGIN:VEVENT
CLASS:PUBLIC
CREATED:20260423T181651
DESCRIPTION:Un resumen general de los derechos y protecciones bajo la ley IDEA y la Sección 504 de la Ley de Rehabilitación Vocacional, el valor del mantenimiento de archivos, el proceso de evaluación, líneas de tiempo y otros componentes legales del IEP, incluyendo metas y objetivos. Técnicas de comunicación son entremezcladas a lo largo del taller.
DTEND:20200206T110000
DTSTAMP:20260423T181651
DTSTART:20200206T090000
LAST-MODIFIED:20091109T101015Z
LOCATION:TASK Brea, 3040 Saturn St., #103, Brea, CA, 92821
SUMMARY;LANGUAGE=en-us:Navegando IEPs - BREA
BEGIN:VALARM
TRIGGER:-PT1440M
ACTION:DISPLAY
DESCRIPTION:Reminder
END:VALARM
END:VEVENT
END:VCALENDAR
