BEGIN:VCALENDAR
BEGIN:VEVENT
CLASS:PUBLIC
CREATED:20260423T181657
DESCRIPTION:We will introduce technology specifically related to disorders on the autism spectrum and for those with developmental disabilities, including software and apps with the following focus areas: video modeling, social skills, life skills, vocabulary building, language development, communication, interpreting emotions and more. We will offer many solutions, from low tech interventions to high tech AAC devices.
DTEND:20200323T140000
DTSTAMP:20260423T181657
DTSTART:20200323T120000
LAST-MODIFIED:20091109T101015Z
LOCATION:TASK Riverside (at Community Access and Disability Center), 6848 Magnolia Ave., Ste. 150, Riverside, CA, 92506
SUMMARY;LANGUAGE=en-us:CANCELLED - Assistive Technology for Autism and Other Disabilities - RIVERSIDE
BEGIN:VALARM
TRIGGER:-PT1440M
ACTION:DISPLAY
DESCRIPTION:Reminder
END:VALARM
END:VEVENT
END:VCALENDAR
