BEGIN:VCALENDAR
BEGIN:VEVENT
CLASS:PUBLIC
CREATED:20260423T181651
DESCRIPTION:In this workshop, we will introduce some great ideas for adapting everyday items for little or no
cost, demonstrate free software that can be accessed online or downloaded to your computer, and
demonstrate free iPad applications that we have found to be helpful. We will also show you built in
accessibility features on your computer and iDevices. Join us for a fun workshop and learn how to
access technology for free!
DTEND:20200311T110000
DTSTAMP:20260423T181651
DTSTART:20200311T090000
LAST-MODIFIED:20091109T101015Z
LOCATION:Tracy Infant Center, 12222 Cuesta Dr., Cerritos, CA, 90703
SUMMARY;LANGUAGE=en-us:Fabulous Freebies: No-Cost AT and Low-Cost Adaptation Ideas - CERRITOS
BEGIN:VALARM
TRIGGER:-PT1440M
ACTION:DISPLAY
DESCRIPTION:Reminder
END:VALARM
END:VEVENT
END:VCALENDAR
