BEGIN:VCALENDAR
BEGIN:VEVENT
CLASS:PUBLIC
CREATED:20260423T181658
DESCRIPTION:This workshop will include apps for middle school and college-aged students. We will include apps for reading, writing, math, life skills, social skills, organization and more. Come join us for an informative, fast-paced workshop.
DTEND:20200326T120000
DTSTAMP:20260423T181658
DTSTART:20200326T094500
LAST-MODIFIED:20091109T101015Z
LOCATION:Parents' Place, 1500 S. Hyacinth Ave., West Covina, CA, 91791
SUMMARY;LANGUAGE=en-us:CANCELLED - Apps for Older Students: Middle School, High School and College - WEST COVINA
BEGIN:VALARM
TRIGGER:-PT1440M
ACTION:DISPLAY
DESCRIPTION:Reminder
END:VALARM
END:VEVENT
END:VCALENDAR
