BEGIN:VCALENDAR
BEGIN:VEVENT
CLASS:PUBLIC
CREATED:20260423T181702
DESCRIPTION:This workshop will include apps for middle school and college-aged students. We will include apps for reading, writing, math, life skills, social skills, organization and more. Come join us for an informative, fast-paced workshop.
DTEND:20200304T173000
DTSTAMP:20260423T181702
DTSTART:20200304T150000
LAST-MODIFIED:20091109T101015Z
LOCATION:Westside Regional Center, 5901 Green Valley Circle, 3rd Floor, Danneker Boardroom, Culver City, CA, 90230
SUMMARY;LANGUAGE=en-us:Apps for Older Students: Middle School, High School and College - CULVER CITY
BEGIN:VALARM
TRIGGER:-PT1440M
ACTION:DISPLAY
DESCRIPTION:Reminder
END:VALARM
END:VEVENT
END:VCALENDAR
