BEGIN:VCALENDAR
BEGIN:VEVENT
CLASS:PUBLIC
CREATED:20260423T181656
DESCRIPTION:Focuses on the individual’s rights and accommodations in school, post-secondary education and the
workplace. Sample Section 504 accommodations and individual health plans are included. Positive
communication techniques are interspersed throughout the workshop.
DTEND:20200320T113000
DTSTAMP:20260423T181656
DTSTART:20200320T093000
LAST-MODIFIED:20091109T101015Z
LOCATION:TASK Alhambra, 1000 S. Fremont Ave., Bldg. A-1, Ste. 1110, Unit 54, Alhambra, CA, 91803
SUMMARY;LANGUAGE=en-us:CANCELLED - Section 504 - ALHAMBRA
BEGIN:VALARM
TRIGGER:-PT1440M
ACTION:DISPLAY
DESCRIPTION:Reminder
END:VALARM
END:VEVENT
END:VCALENDAR
