BEGIN:VCALENDAR
BEGIN:VEVENT
CLASS:PUBLIC
CREATED:20260423T181651
DESCRIPTION:This workshop provides an overview of the rights and protections under IDEA and Section 504 of the Rehabilitation Act, the value of record keeping, the assessment process, timelines and other legal components of the IEP, including goals and objectives. Communication techniques are interspersed throughout the workshop.
DTEND:20200212T160000
DTSTAMP:20260423T181651
DTSTART:20200212T140000
LAST-MODIFIED:20091109T101015Z
LOCATION:TASK San Diego, 3845 Spring Dr., Room 21, Spring Valley, CA, 91978
SUMMARY;LANGUAGE=en-us:Navigating IEPs - SPRING VALLEY
BEGIN:VALARM
TRIGGER:-PT1440M
ACTION:DISPLAY
DESCRIPTION:Reminder
END:VALARM
END:VEVENT
END:VCALENDAR
