BEGIN:VCALENDAR
BEGIN:VEVENT
CLASS:PUBLIC
CREATED:20260423T181644
DESCRIPTION:This workshop provides an overview of the rights and protections under IDEA and Section 504 of the
Rehabilitation Act, the value of record keeping, the assessment process, timelines and other legal
components of the IEP, including goals and objectives. Communication techniques are interspersed
throughout the workshop.
DTEND:20200208T120000
DTSTAMP:20260423T181644
DTSTART:20200208T093000
LAST-MODIFIED:20091109T101015Z
LOCATION:Parents' Place, 1500 S. Hyacinth Ave., West Covina, CA, 91791
SUMMARY;LANGUAGE=en-us:Navigating IEPs - WEST COVINA
BEGIN:VALARM
TRIGGER:-PT1440M
ACTION:DISPLAY
DESCRIPTION:Reminder
END:VALARM
END:VEVENT
END:VCALENDAR
