BEGIN:VCALENDAR
BEGIN:VEVENT
CLASS:PUBLIC
CREATED:20260423T181652
DESCRIPTION:This workshop provides an overview of the basic rights and protections under IDEA, a brief overview of Section 504 of the Rehabilitation Act, and an explanation of record keeping and the assessment process.
DTEND:20200325T110000
DTSTAMP:20260423T181652
DTSTART:20200325T090000
LAST-MODIFIED:20091109T101015Z
LOCATION:TASK Brea, 3040 Saturn St., #103, Brea, CA, 92821
SUMMARY;LANGUAGE=en-us:CANCELLED - Basic Rights and Responsibilities - BREA
BEGIN:VALARM
TRIGGER:-PT1440M
ACTION:DISPLAY
DESCRIPTION:Reminder
END:VALARM
END:VEVENT
END:VCALENDAR
