BEGIN:VCALENDAR
BEGIN:VEVENT
CLASS:PUBLIC
CREATED:20260423T181645
DESCRIPTION:This workshop provides an overview of the basic rights and protections under IDEA, a brief overview of Section 504 of the Rehabilitation Act, and an explanation of record keeping and the assessment process.
DTEND:20200214T110000
DTSTAMP:20260423T181645
DTSTART:20200214T090000
LAST-MODIFIED:20091109T101015Z
LOCATION:TASK Riverside (at Community Access and Disability Center), 6848 Magnolia Ave., Ste. 150, Riverside, CA, 92506
SUMMARY;LANGUAGE=en-us:Basic Rights and Responsibilities - RIVERSIDE
BEGIN:VALARM
TRIGGER:-PT1440M
ACTION:DISPLAY
DESCRIPTION:Reminder
END:VALARM
END:VEVENT
END:VCALENDAR
