BEGIN:VCALENDAR
BEGIN:VEVENT
CLASS:PUBLIC
CREATED:20260423T181644
DESCRIPTION:This workshop provides an overview of the importance of parent input and ways to ensure that all the child’s needs are being considered when determining appropriate services and placement options.
DTEND:20200324T113000
DTSTAMP:20260423T181644
DTSTART:20200324T093000
LAST-MODIFIED:20091109T101015Z
LOCATION:Parents' Place, 1500 S. Hyacinth Ave., West Covina, CA, 91791
SUMMARY;LANGUAGE=en-us:CANCELLED - Assessment Process - WEST COVINA
BEGIN:VALARM
TRIGGER:-PT1440M
ACTION:DISPLAY
DESCRIPTION:Reminder
END:VALARM
END:VEVENT
END:VCALENDAR
