BEGIN:VCALENDAR
BEGIN:VEVENT
CLASS:PUBLIC
CREATED:20260423T181943
DESCRIPTION:This workshop provides an overview of the importance of parent input and ways to ensure that all the child’s needs are being considered when determining appropriate services and placement options.
DTEND:20200228T113000
DTSTAMP:20260423T181943
DTSTART:20200228T093000
LAST-MODIFIED:20091109T101015Z
LOCATION:TASK Alhambra, 1000 S. Fremont Ave., Bldg. A-1, Ste. 1110, Unit 54, Alhambra, CA, 91803
SUMMARY;LANGUAGE=en-us:Assessment Process - ALHAMBRA
BEGIN:VALARM
TRIGGER:-PT1440M
ACTION:DISPLAY
DESCRIPTION:Reminder
END:VALARM
END:VEVENT
END:VCALENDAR
