BEGIN:VCALENDAR
BEGIN:VEVENT
CLASS:PUBLIC
CREATED:20260423T194248
DESCRIPTION:This workshop provides a detailed overview of early intervention and transition services at age three to families and professionals who serve infants and toddlers with disabilities. It also includes information about procedural safeguards and tips and pointers for a successful transition.
DTEND:20200110T110000
DTSTAMP:20260423T194248
DTSTART:20200110T090000
LAST-MODIFIED:20091109T101015Z
LOCATION:TASK Riverside (at Community Access and Disability Center, 6848 Magnolia Ave., Ste. 150, Riverside, CA, 92506
SUMMARY;LANGUAGE=en-us:Early Intervention and Transition Services at Age Three - RIVERSIDE
BEGIN:VALARM
TRIGGER:-PT1440M
ACTION:DISPLAY
DESCRIPTION:Reminder
END:VALARM
END:VEVENT
END:VCALENDAR
