BEGIN:VCALENDAR
BEGIN:VEVENT
CLASS:PUBLIC
CREATED:20260419T130805
DESCRIPTION:¿Están sus hijos frustrados con las matemáticas? ¿Está buscando nuevas formas de enseñar o practicar conceptos? Acompáñenos mientras compartimos más de una docena de aplicaciones de matemáticas orientadas a la matemática temprana, primaria, intermedia y secundaria.

Este taller se llevará a cabo utilizando Zoom. Después de registrarse, recibirá una invitación para unirse a la reunión de Zoom.
DTEND:20251113T113000
DTSTAMP:20260419T130805
DTSTART:20251113T100000
LAST-MODIFIED:20091109T101015Z
LOCATION:(ONLINE), , , , 
SUMMARY;LANGUAGE=en-us:Aplicaciones Maravillosas de Matemáticas WEBINAR
BEGIN:VALARM
TRIGGER:-PT1440M
ACTION:DISPLAY
DESCRIPTION:Reminder
END:VALARM
END:VEVENT
END:VCALENDAR
