BEGIN:VCALENDAR
BEGIN:VEVENT
CLASS:PUBLIC
CREATED:20260419T130456
DESCRIPTION:La tecnología de asistencia empodera a las personas con discapacidades al mejorar su participación en la vida diaria, promoviendo la autodeterminación y la independencia. Estas herramientas ayudan a los usuarios a acceder a información, a completar formularios, a mejorar la organización y la gestión del tiempo, y a dividir las tareas en pasos manejables, contribuyendo así a una mayor autonomía.

Este taller se llevará a cabo utilizando Zoom. Después de registrarse, recibirá una invitación para unirse a la reunión de Zoom.
DTEND:20251015T120000
DTSTAMP:20260419T130456
DTSTART:20251015T100000
LAST-MODIFIED:20091109T101015Z
LOCATION:(ONLINE), , , , 
SUMMARY;LANGUAGE=en-us:Herramientas de Tecnología de Asistencia para la Independencia WEBINAR
BEGIN:VALARM
TRIGGER:-PT1440M
ACTION:DISPLAY
DESCRIPTION:Reminder
END:VALARM
END:VEVENT
END:VCALENDAR
