BEGIN:VCALENDAR
BEGIN:VEVENT
CLASS:PUBLIC
CREATED:20260419T130546
DESCRIPTION:Assistive technology empowers individuals with disabilities by enhancing their participation in daily life, promoting self-determination and independence. These tools help users to access information, assist with form completion, improve organization and time management, and help break tasks into manageable steps, ultimately contributing to greater autonomy.

This workshop will be conducted using Zoom. After registering, you will receive an invitation to join the Zoom meeting.
DTEND:20251003T120000
DTSTAMP:20260419T130546
DTSTART:20251003T100000
LAST-MODIFIED:20091109T101015Z
LOCATION:(ONLINE), , , , 
SUMMARY;LANGUAGE=en-us:Assistive Technology Tools for Independence WEBINAR
BEGIN:VALARM
TRIGGER:-PT1440M
ACTION:DISPLAY
DESCRIPTION:Reminder
END:VALARM
END:VEVENT
END:VCALENDAR
