BEGIN:VCALENDAR
BEGIN:VEVENT
CLASS:PUBLIC
CREATED:20260419T144257
DESCRIPTION:There are so many reading apps out there! We will demonstrate some of the ones that we think are worthwhile and educational, as well as some super helpful reading tools. Categories include comprehension, fluency, decoding, and more. Apps shown will be for ages ranging from elementary through high school and beyond.

This workshop will be conducted using Zoom. After registering, you will receive an invitation to join the Zoom meeting.
DTEND:20250926T113000
DTSTAMP:20260419T144257
DTSTART:20250926T100000
LAST-MODIFIED:20091109T101015Z
LOCATION:(ONLINE), , , , 
SUMMARY;LANGUAGE=en-us:Reading Apps WEBINAR
BEGIN:VALARM
TRIGGER:-PT1440M
ACTION:DISPLAY
DESCRIPTION:Reminder
END:VALARM
END:VEVENT
END:VCALENDAR
