BEGIN:VCALENDAR
BEGIN:VEVENT
CLASS:PUBLIC
CREATED:20260419T144041
DESCRIPTION:¡Existen muchas aplicaciones de lectura! Demostraremos algunas de las que creemos que valen la pena y son educativas, así como algunas herramientas de lectura súper útiles. Las categorías incluyen comprensión, fluidez, decodificación y más. Las aplicaciones que se muestran serán para edades que van desde la primaria hasta la secundaria y más allá.

Este taller se llevará a cabo utilizando Zoom. Después de registrarse, recibirá una invitación para unirse a la reunión de Zoom.
DTEND:20250924T113000
DTSTAMP:20260419T144041
DTSTART:20250924T100000
LAST-MODIFIED:20091109T101015Z
LOCATION:(ONLINE), , , , 
SUMMARY;LANGUAGE=en-us:Aplicaciones de Lectura WEBINAR
BEGIN:VALARM
TRIGGER:-PT1440M
ACTION:DISPLAY
DESCRIPTION:Reminder
END:VALARM
END:VEVENT
END:VCALENDAR
