BEGIN:VCALENDAR
BEGIN:VEVENT
CLASS:PUBLIC
CREATED:20260419T144128
DESCRIPTION:Executive functions are the self-regulating skills that we all use to accomplish tasks, from getting dressed to doing homework. They include: paying attention, organizing, planning, and prioritizing, as well as regulating emotions and many others. Come discover tools and strategies that may assist individuals with time and project management, organization, attention, focus, working memory, and self-regulation.

This workshop will be conducted using Zoom. After registering, you will receive an invitation to join the Zoom meeting.
DTEND:20250912T113000
DTSTAMP:20260419T144128
DTSTART:20250912T100000
LAST-MODIFIED:20091109T101015Z
LOCATION:(ONLINE), , , , 
SUMMARY;LANGUAGE=en-us:Executive Function Tools and Supports WEBINAR
BEGIN:VALARM
TRIGGER:-PT1440M
ACTION:DISPLAY
DESCRIPTION:Reminder
END:VALARM
END:VEVENT
END:VCALENDAR
