BEGIN:VCALENDAR
BEGIN:VEVENT
CLASS:PUBLIC
CREATED:20260419T143951
DESCRIPTION:Las funciones ejecutivas son las habilidades de autorregulación que todos usamos para realizar tareas/trabajos, desde vestirnos hasta hacer la tarea. Incluyen: prestar atención, organizar, planificar y priorizar, así como regular las emociones y muchos otros. Venga a descubrir herramientas y estrategias que pueden ayudar a las personas con la gestión del tiempo y los proyectos, la organización, la atención, el enfoque, la memoria de trabajo y la autorregulación.

Este taller se llevará a cabo utilizando Zoom. Después de registrarse, recibirá una invitación para unirse a la reunión de Zoom.
DTEND:20250903T113000
DTSTAMP:20260419T143951
DTSTART:20250903T100000
LAST-MODIFIED:20091109T101015Z
LOCATION:(ONLINE), , , , 
SUMMARY;LANGUAGE=en-us:Herramientas y Apoyos para Funciones Ejecutivas WEBINAR
BEGIN:VALARM
TRIGGER:-PT1440M
ACTION:DISPLAY
DESCRIPTION:Reminder
END:VALARM
END:VEVENT
END:VCALENDAR
