BEGIN:VCALENDAR
BEGIN:VEVENT
CLASS:PUBLIC
CREATED:20260419T143950
DESCRIPTION:Many kiddos (and adults) struggle with social and life skills. Join this session, in which we will demonstrate apps that can help with these skills. App focus will include: personal grooming, household chores, telling time, dialing 911, social skills, and more. Apps for various ages will be shown.

This workshop will be conducted using Zoom. After registering, you will receive an invitation to join the Zoom meeting.
DTEND:20250822T113000
DTSTAMP:20260419T143950
DTSTART:20250822T100000
LAST-MODIFIED:20091109T101015Z
LOCATION:(ONLINE), , , , 
SUMMARY;LANGUAGE=en-us:Social and Life Skills Apps WEBINAR
BEGIN:VALARM
TRIGGER:-PT1440M
ACTION:DISPLAY
DESCRIPTION:Reminder
END:VALARM
END:VEVENT
END:VCALENDAR
