BEGIN:VCALENDAR
BEGIN:VEVENT
CLASS:PUBLIC
CREATED:20260419T174517
DESCRIPTION:¿Sabía que los clientes del Centro Regional tienen acceso a una amplia variedad de servicios y actividades sociales y recreativas? Estos programas están diseñados para mejorar la calidad de vida de las personas con discapacidades del desarrollo mediante la promoción de la inclusión, el desarrollo personal y la participación comunitaria.

Entre las opciones que ofrecen están el acceso a actividades recreativas que pueden incluir deportes, artes y manualidades, actividades al aire libre y eventos culturales. También ofrecen acceso a programas de socialización, así como a terapias recreativas.

Para conocer más sobre el proceso de aplicación, los criterios de elegibilidad, y otras opciones de apoyos y servicios, únase a un representante de la Oficina de Defensa de los Derechos de los Clientes (OCRA), quien abordará aspectos relevantes sobre los diferentes programas y apoyos, entre ellos se incluyen:

- Eventos especiales
- Programas de inclusión comunitaria
- Apoyo en actividades educativas y de capacitación
- Programas de voluntariado
- Acceso a centros de recreación
- Programas de vida independiente

Recuerde que estos servicios y actividades tienen la finalidad de apoyar a su joven o adulto con discapacidad a construir conexiones sociales, desarrollar nuevas habilidades y mejorar su calidad de vida. No espere más e inscríbase ahora

Acomodaciones: Si necesita adaptaciones para participar en la capacitación o asistencia con la inscripción, por favor contáctese lo antes posible con teresa@php.com. Generalmente requerimos 10 días para organizar las adaptaciones y asegurar su inclusión.

Este es un evento de Connections California. Connections California, un proyecto de Parents Helping Parents – Silicon Valley. Connections California está en parte patrocinado por el Centro Regional de San Andreas y el Departamento de Servicios de Desarrollo de California.
DTEND:20250515T110000
DTSTAMP:20260419T174517
DTSTART:20250515T100000
LAST-MODIFIED:20091109T101015Z
LOCATION:(ONLINE), , , , 
SUMMARY;LANGUAGE=en-us:Acceda a los Servicios Sociales y Recreativos del Centro Regional WEBINAR (con PHP)
BEGIN:VALARM
TRIGGER:-PT1440M
ACTION:DISPLAY
DESCRIPTION:Reminder
END:VALARM
END:VEVENT
END:VCALENDAR
