BEGIN:VCALENDAR
BEGIN:VEVENT
CLASS:PUBLIC
CREATED:20260419T174102
DESCRIPTION:El Programa de Autodeterminación (SDP, por sus siglas en inglés) enfatiza la planificación centrada en la persona y está dirigido a individuos con discapacidades del desarrollo. Este programa se sustenta en los principios de libertad, autoridad, apoyo, responsabilidad y confirmación.

¿Cómo el Programa de Autodeterminación puede ayudarlo a alcanzar la autonomía sobre las decisiones de los servicios que su joven o adulto con discapacidad recibe por parte del centro regional? ¿Cómo acceder a los servicios a la medida, permitiéndoles gestionar su propia vida y alcanzar sus metas personales?

Para conocer los puntos clave de este programa acompañe a Elizabeth Gomez y Fernando Gomez, padres y defensores dedicados y fundadores del Programa Integradores / Integradoras de Alcance Comunitario que aborda las disparidades dentro del Sistema de Centros Regionales de California.

En esta charla usted aprenderá más sobre:

– Control personalizado
– Presupuesto individualizado
– Elaboración de un plan de vida
– Facilitadores independientes
– Servicios diversificados
– Responsabilidad y supervisión
– Flexibilidad del programa
– Empoderamiento y calidad de vida

Elizabeth Gomez y Fernando Gomez, también jugaron un papel decisivo en la creación y cofundación de Integrated Community Collaborative (ICC). Una colaboración de grupos comunitarios de padres y autodefensores que ayudan a la comunidad ID/DD a través de la relevancia e integración cultural. Elizabeth y su esposo Fernando viven con sus hijos, Diego Antonio y Oscar Antonio, quien tiene síndrome de Down.

Acomodaciones: Si necesita adaptaciones para participar en la capacitación o asistencia con la inscripción, por favor contáctese lo antes posible con teresa@php.com. Generalmente requerimos 10 días para organizar las adaptaciones y asegurar su inclusión.

Este es un evento de Connections California. Connections California, un proyecto de Parents Helping Parents – Silicon Valley. Connections California está en parte patrocinado por el Centro Regional de San Andreas y el Departamento de Servicios de Desarrollo de California.
DTEND:20250506T193000
DTSTAMP:20260419T174102
DTSTART:20250506T180000
LAST-MODIFIED:20091109T101015Z
LOCATION:(ONLINE), , , , 
SUMMARY;LANGUAGE=en-us:Obtenga el Máximo Beneficio del Programa de Autodeterminación (con PHP)
BEGIN:VALARM
TRIGGER:-PT1440M
ACTION:DISPLAY
DESCRIPTION:Reminder
END:VALARM
END:VEVENT
END:VCALENDAR
