BEGIN:VCALENDAR
BEGIN:VEVENT
CLASS:PUBLIC
CREATED:20260419T175940
DESCRIPTION:Si su joven o adulto con discapacidad es beneficiario del SSI (Seguridad de Ingreso Suplementario) y/o del SSDI (Seguro por Incapacidad del Seguro Social), el comenzar una vida laboral puede afectar la cantidad de beneficios que recibe.

Cuando su ser querido con discapacidad comience a trabajar es fundamental que se informe sobre todos los aspectos que impactarán el comienzo de trayectoria laboral, los programas de incentivos, los límites de ingreso y otros aspectos que verá reflejado en sus finanzas y en su bolsillo.
Sea parte de esta presentación de la abogada Wilmary Torres, defensora en la Oficina de Defensa de los Derechos de los Clientes en Disability Rights California, quien le compartirá a detalle información sobre:

– Impacto del empleo
– Reducción de Beneficios
– Cómo reportar los cambios
– Límite de ingresos
– Programas de incentivo para el trabajo

No pierda esta oportunidad de conocer más en torno al SSI y SSDI y su impacto a los beneficiarios al iniciar su vida laboral.

Acomodaciones: Si necesita adaptaciones para participar en la capacitación o asistencia con la inscripción, por favor contáctese lo antes posible con teresa@php.com. Generalmente requerimos 10 días para organizar las adaptaciones y asegurar su inclusión.

Este es un evento de Connections California. Connections California, un proyecto de Parents Helping Parents – Silicon Valley. Connections California está en parte patrocinado por el Centro Regional de San Andreas y el Departamento de Servicios de Desarrollo de California.

DTEND:20250429T113000
DTSTAMP:20260419T175940
DTSTART:20250429T100000
LAST-MODIFIED:20091109T101015Z
LOCATION:(ONLINE), , , , 
SUMMARY;LANGUAGE=en-us:¿Su Ser Querido Tiene Empleo? Esto Puede Afectar sus Beneficios WEBINAR (con PHP)
BEGIN:VALARM
TRIGGER:-PT1440M
ACTION:DISPLAY
DESCRIPTION:Reminder
END:VALARM
END:VEVENT
END:VCALENDAR
