BEGIN:VCALENDAR
BEGIN:VEVENT
CLASS:PUBLIC
CREATED:20260419T180006
DESCRIPTION:La crianza de un joven o adulto con discapacidad es una tarea desafiante y las preocupaciones sobre su futuro se hacen mayores si su ser querido necesitará uno o más intermediarios que resguarden sus intereses a lo largo de toda su vida.

¿Se ha preguntado qué podría hacer la planificación patrimonial por usted y su ser querido con discapacidad? En California, la planificación patrimonial es esencial para asegurar su bienestar financiero y asegurar que sus beneficios gubernamentales no se vean comprometidos.

Si está en la búsqueda de respuestas sobre este tema, llegó al lugar correcto! Acompañe a Antonio M. Rodriguez, especialista en Planificación Patrimonial y asesoría legal en Johnson Law Corporation, quien le compartirá algunas consideraciones para tener en cuenta en su planificación patrimonial, entre ellas:

– Qué es la planificación patrimonial
– Fideicomiso para Necesidades Especiales
– Poder notarial
– Su patrimonio y sus beneficiarios
– Programas de beneficios públicos
– Asesoría legal especializada

Recuerde que implementar una planificación patrimonial adecuada puede proporcionar tranquilidad y seguridad financiera para usted, su familia y su joven o adulto con discapacidad. La combinación de herramientas como fideicomisos, cuentas ABLE y asesoría legal sólida es clave para un plan exitoso. No espere más y regístrese aquí!

Acomodaciones: Si necesita adaptaciones para participar en la capacitación o asistencia con la inscripción, por favor contáctese lo antes posible con teresa@php.com. Generalmente requerimos 10 días para organizar las adaptaciones y asegurar su inclusión.

Este es un evento de Connections California. Connections California, un proyecto de Parents Helping Parents – Silicon Valley. Connections California está en parte patrocinado por el Centro Regional de San Andreas y el Departamento de Servicios de Desarrollo de California.

DTEND:20250415T193000
DTSTAMP:20260419T180006
DTSTART:20250415T180000
LAST-MODIFIED:20091109T101015Z
LOCATION:(ONLINE), , , , 
SUMMARY;LANGUAGE=en-us:Asegure su Legado con Planificación Patrimonial WEBINAR (con PHP)
BEGIN:VALARM
TRIGGER:-PT1440M
ACTION:DISPLAY
DESCRIPTION:Reminder
END:VALARM
END:VEVENT
END:VCALENDAR
