BEGIN:VCALENDAR
BEGIN:VEVENT
CLASS:PUBLIC
CREATED:20260419T174240
DESCRIPTION:이 워크숍은 특수 교육 평가 절차에 관한 학부모 및 교육국의 참여에 대해 살펴보는 시간입니다. 워크숍에 참석하시는 분들은 특수 교육과 Section 504을 관장하는 연방법에 대한 정보, 특수 교육 서비스에 대한 의뢰 및 평가 과정, 그리고 분쟁 해결 옵션들, 등에 대해해 배우게 되실 것 입니다.

이 워크숍은 줌으로 진행되며, 등록후, 줌 미팅에 참여하실 수 있는 링크를 이메일로 받으실 것 입니다.
DTEND:20250521T120000
DTSTAMP:20260419T174240
DTSTART:20250521T103000
LAST-MODIFIED:20091109T101015Z
LOCATION:(ONLINE), , , , 
SUMMARY;LANGUAGE=en-us:평가 과정 WEBINAR
BEGIN:VALARM
TRIGGER:-PT1440M
ACTION:DISPLAY
DESCRIPTION:Reminder
END:VALARM
END:VEVENT
END:VCALENDAR
