BEGIN:VCALENDAR
BEGIN:VEVENT
CLASS:PUBLIC
CREATED:20260419T144042
DESCRIPTION:¡Jóvenes, este seminario web es para ustedes! Acompañenos para aprender sobre como abogar por sí mismos en el lugar de trabajo, pedir acomodaciones laborales, hablar sobre tu discapacidad y entender mejor qué significa tener una discapacidad.

¡Padres ustedes también son bienvenidos!

Este taller se llevará a cabo utilizando Zoom. Después de registrarse, recibirá una invitación para unirse a la reunión de Zoom.
DTEND:20250923T183000
DTSTAMP:20260419T144042
DTSTART:20250923T170000
LAST-MODIFIED:20091109T101015Z
LOCATION:(ONLINE), , , , 
SUMMARY;LANGUAGE=en-us:Las Discapacidades y la Auto-Defensa en el Lugar de Trabajo WEBINAR
BEGIN:VALARM
TRIGGER:-PT1440M
ACTION:DISPLAY
DESCRIPTION:Reminder
END:VALARM
END:VEVENT
END:VCALENDAR
