BEGIN:VCALENDAR
BEGIN:VEVENT
CLASS:PUBLIC
CREATED:20260419T144236
DESCRIPTION:Youth, this webinar is for you! Come join us to learn about how to self-advocate in the workplace, employment accommodations, disability disclosure and understanding disability.

This webinar is geared for youth ages 14 and up. Parents are welcome!

This workshop will be conducted using Zoom. After registering, you will receive an invitation to join the Zoom meeting.
DTEND:20250923T183000
DTSTAMP:20260419T144236
DTSTART:20250923T170000
LAST-MODIFIED:20091109T101015Z
LOCATION:(ONLINE), , , , 
SUMMARY;LANGUAGE=en-us:Disability Awareness And Self-Advocacy in the Workplace WEBINAR
BEGIN:VALARM
TRIGGER:-PT1440M
ACTION:DISPLAY
DESCRIPTION:Reminder
END:VALARM
END:VEVENT
END:VCALENDAR
