BEGIN:VCALENDAR
BEGIN:VEVENT
CLASS:PUBLIC
CREATED:20260419T213411
DESCRIPTION:¿Quiere aprender a navegar por el sistema para personas con discapacidad, sin morir
en el intento? Sabemos que este es un desafío, sin embargo, con una buena
planificación y conocimiento de los recursos, puede ser más sencillo para usted y su
ser querido.

Aprenda directamente de la voz experta de padres y cuidadores de adultos con
discapacidad, los planes y estrategias efectivas para ayudarle a navegar este sistema
de manera eficiente y exitosa.

Acompáñenos a este panel donde se abordarán aspectos sobre:

– Apoyos esenciales para un joven/adulto con discapacidad
– Acceso a beneficios públicos
– Aspectos y conceptos legales
– Planificación financiera
– Vivienda y vida independiente

Además, identifique otros conceptos en torno a la comprensión del diagnóstico, la
conexión con centros regionales, el entorno de educación especial, la documentación y
organización, las esferas de apoyo entre la familia y la comunidad, así como el aspecto
clave de una actualización continua.

Navegar por el sistema puede ser complejo, pero ser proactivo, buscar apoyo, y
mantenerse organizado le ayudará a gestionar con éxito los recursos necesarios para
ofrecer el mejor soporte y guía para su hijo con discapacidad.

Acomodaciones: Si necesita adaptaciones para participar en la capacitación o
asistencia con la inscripción, por favor contáctese lo antes posible
con teresa@php.com. Generalmente requerimos 10 días para organizar las
adaptaciones y asegurar su inclusión.

Este es un evento de Connections California. Connections California, un proyecto de
Parents Helping Parents – Silicon Valley. Connections California está en parte
patrocinado por el Centro Regional de San Andreas y el Departamento de Servicios de
Desarrollo de California.
DTEND:20250130T120000
DTSTAMP:20260419T213411
DTSTART:20250130T100000
LAST-MODIFIED:20091109T101015Z
LOCATION:(ONLINE), , , , 
SUMMARY;LANGUAGE=en-us:Cómo Navegar en el Sistema y No Morir en el Intento WEBINAR (con PHP)
BEGIN:VALARM
TRIGGER:-PT1440M
ACTION:DISPLAY
DESCRIPTION:Reminder
END:VALARM
END:VEVENT
END:VCALENDAR
