BEGIN:VCALENDAR
BEGIN:VEVENT
CLASS:PUBLIC
CREATED:20260419T194528
DESCRIPTION:Focuses on the development of the Individual Transition Plan and the transition process from school to adult services. Explains other system criteria and application processes, i.e. Social Security Administration, Department of Rehabilitation and Regional Center. Discusses supports for the individual to live independently and productively within the community. Positive communication techniques are interspersed throughout the workshop.

This workshop will be conducted in partnership with Autism Speaks using Zoom. After registering, you will receive an invitation to join the Zoom meeting.
DTEND:20250327T133000
DTSTAMP:20260419T194528
DTSTART:20250327T120000
LAST-MODIFIED:20091109T101015Z
LOCATION:(ONLINE), , , , 
SUMMARY;LANGUAGE=en-us:Educational Planning for the Transition to Adulthood WEBINAR (with Autism Speaks)
BEGIN:VALARM
TRIGGER:-PT1440M
ACTION:DISPLAY
DESCRIPTION:Reminder
END:VALARM
END:VEVENT
END:VCALENDAR
