BEGIN:VCALENDAR
BEGIN:VEVENT
CLASS:PUBLIC
CREATED:20260419T194056
DESCRIPTION:Se centra en el desarrollo del Plan de Transición Individual y el proceso de transición de la escuela a los servicios para adultos. Explica otros criterios del sistema y procesos de solicitud, es decir, la Administración del Seguro Social, el Departamento de Rehabilitación y el Centro Regional. Analiza los apoyos para que la persona viva de forma independiente y productiva dentro de la comunidad. Las técnicas de comunicación positiva se intercalan a lo largo del taller.

Este taller en colaboración con Autism Speaks se llevará a cabo utilizando Zoom. Después de registrarse, recibirá una invitación para unirse a la reunión de Zoom.
DTEND:20250305T133000
DTSTAMP:20260419T194056
DTSTART:20250305T120000
LAST-MODIFIED:20091109T101015Z
LOCATION:(ONLINE), , , , 
SUMMARY;LANGUAGE=en-us:Planificación Educativa para la Transición a la Adultez WEBINAR (con Autism Speaks)
BEGIN:VALARM
TRIGGER:-PT1440M
ACTION:DISPLAY
DESCRIPTION:Reminder
END:VALARM
END:VEVENT
END:VCALENDAR
