BEGIN:VCALENDAR
BEGIN:VEVENT
CLASS:PUBLIC
CREATED:20260419T194122
DESCRIPTION:Does the IEP process seem overwhelming and confusing? This workshop will help guide you through the process, introduce you to special education terminology, and provide you with tools to help you successfully navigate special education.

This workshop will be conducted using Zoom. After registering, you will receive an invitation to join the Zoom meeting.
DTEND:20250313T133000
DTSTAMP:20260419T194122
DTSTART:20250313T120000
LAST-MODIFIED:20091109T101015Z
LOCATION:(ONLINE), , , , 
SUMMARY;LANGUAGE=en-us:Navigating Special Education WEBINAR
BEGIN:VALARM
TRIGGER:-PT1440M
ACTION:DISPLAY
DESCRIPTION:Reminder
END:VALARM
END:VEVENT
END:VCALENDAR
