BEGIN:VCALENDAR
BEGIN:VEVENT
CLASS:PUBLIC
CREATED:20260419T212652
DESCRIPTION:Youth, this training is for you! Come join us for an interactive webinar that will help you learn tools to:

• Find a job
• Keep a job
• Self-advocate while on the job, and
• Communicate and practice social etiquette

This webinar is geared for youth ages 14 and up. Parents are welcome!

This workshop will be conducted using Zoom. After registering, you will receive an invitation to join the Zoom meeting.
DTEND:20241212T180000
DTSTAMP:20260419T212652
DTSTART:20241212T163000
LAST-MODIFIED:20091109T101015Z
LOCATION:(ONLINE), , , , 
SUMMARY;LANGUAGE=en-us:Getting and Keeping Your First Job WEBINAR
BEGIN:VALARM
TRIGGER:-PT1440M
ACTION:DISPLAY
DESCRIPTION:Reminder
END:VALARM
END:VEVENT
END:VCALENDAR
