BEGIN:VCALENDAR
BEGIN:VEVENT
CLASS:PUBLIC
CREATED:20260419T194229
DESCRIPTION:Are your kiddos frustrated by math? Are you looking for new ways to teach or practice concepts? Join us as we share over a dozen math apps geared toward early math, elementary, middle and high school.

This workshop will be conducted using Zoom. After registering, you will receive an invitation to join the Zoom meeting.
DTEND:20250321T113000
DTSTAMP:20260419T194229
DTSTART:20250321T100000
LAST-MODIFIED:20091109T101015Z
LOCATION:(ONLINE), , , , 
SUMMARY;LANGUAGE=en-us:Marvelous Math Apps WEBINAR
BEGIN:VALARM
TRIGGER:-PT1440M
ACTION:DISPLAY
DESCRIPTION:Reminder
END:VALARM
END:VEVENT
END:VCALENDAR
