BEGIN:VCALENDAR
BEGIN:VEVENT
CLASS:PUBLIC
CREATED:20260419T194326
DESCRIPTION:In this webinar, we will introduce low, mid and high tech Augmentative Alternative Communication devices and varied options. Participants will leave with a thorough understanding of what AAC is, where to obtain it, and who may benefit. Handout includes a list of AAC helpful resources.

This workshop will be conducted using Zoom. After registering, you will receive an invitation to join the Zoom meeting.
DTEND:20250221T113000
DTSTAMP:20260419T194326
DTSTART:20250221T100000
LAST-MODIFIED:20091109T101015Z
LOCATION:(ONLINE), , , , 
SUMMARY;LANGUAGE=en-us:Let’s Talk AAC: An Introduction WEBINAR
BEGIN:VALARM
TRIGGER:-PT1440M
ACTION:DISPLAY
DESCRIPTION:Reminder
END:VALARM
END:VEVENT
END:VCALENDAR
