BEGIN:VCALENDAR
BEGIN:VEVENT
CLASS:PUBLIC
CREATED:20260419T211906
DESCRIPTION:La ortografía y la fonética son habilidades fundamentales que conducen a la fluidez en la lectura y la escritura. Durante nuestro tiempo juntos, mostraremos aplicaciones que funcionan tanto en ortografía como en fonética.

Este taller se llevará a cabo utilizando Zoom. Después de registrarse, recibirá una invitación para unirse a la reunión de Zoom.
DTEND:20250128T113000
DTSTAMP:20260419T211906
DTSTART:20250128T100000
LAST-MODIFIED:20091109T101015Z
LOCATION:(ONLINE), , , , 
SUMMARY;LANGUAGE=en-us:Aplicaciones para Ortografía y Fonética WEBINAR
BEGIN:VALARM
TRIGGER:-PT1440M
ACTION:DISPLAY
DESCRIPTION:Reminder
END:VALARM
END:VEVENT
END:VCALENDAR
