BEGIN:VCALENDAR
BEGIN:VEVENT
CLASS:PUBLIC
CREATED:20260419T212528
DESCRIPTION:Spelling and phonics are critical skills that lead to reading and writing fluency. During our time together, we will demonstrate apps that work on both spelling and phonics.

This workshop will be conducted using Zoom. After registering, you will receive an invitation to join the Zoom meeting.
DTEND:20250122T113000
DTSTAMP:20260419T212528
DTSTART:20250122T100000
LAST-MODIFIED:20091109T101015Z
LOCATION:(ONLINE), , , , 
SUMMARY;LANGUAGE=en-us:Apps for Spelling and Phonics WEBINAR
BEGIN:VALARM
TRIGGER:-PT1440M
ACTION:DISPLAY
DESCRIPTION:Reminder
END:VALARM
END:VEVENT
END:VCALENDAR
