BEGIN:VCALENDAR
BEGIN:VEVENT
CLASS:PUBLIC
CREATED:20260419T225803
DESCRIPTION:The presentation will explore the Americans with Disabilites Act (ADA), a key piece of legislation that protects the rights of people with disabilities. Learn about three main topics:

- The history and purpose of the ADA, its goal to prevent discrimination and ensure equal access.
- The main areas of the ADA: employment, public services, transportation, public accommodations, and telecommunications.
- The impact and barriers for people with disabilities, how the ADA can be used in their daily lives.

Please join Jan Garrett, Deputy Director of ADA Programs, ADA National Network. The ADA National Network provides information, guidanc, and training on how to implement the ADA in order to support the mission of the ADA to “assure equality of opportunity, full participation, independent living, and economic self-sufficiency for individuals with disabilities.”

This is a Connections California event, a project of TASK\'s partners at Parents Helping Parents – Silicon Valley. Connections California is sponsored in part by the San Andreas Regional Center and the California Department of Developmental Services.
DTEND:20241029T193000
DTSTAMP:20260419T225803
DTSTART:20241029T183000
LAST-MODIFIED:20091109T101015Z
LOCATION:(ONLINE), , , , 
SUMMARY;LANGUAGE=en-us:Get to Know Your Rights Under ADA WEBINAR (with PHP)
BEGIN:VALARM
TRIGGER:-PT1440M
ACTION:DISPLAY
DESCRIPTION:Reminder
END:VALARM
END:VEVENT
END:VCALENDAR
