BEGIN:VCALENDAR
BEGIN:VEVENT
CLASS:PUBLIC
CREATED:20260419T212647
DESCRIPTION:Este taller ayuda a crear el Plan de Transición Individual (ITP) y guía el proceso del estudiante desde la escuela hasta la vida post-escolar. Obtenga información sobre la educación postsecundaria, las oportunidades laborales, los servicios para adultos y la participación comunitaria. Descubra los criterios y procesos para las solicitudes del Departamento de Rehabilitación y el Centro Regional. Además, explore las diversas opciones de apoyo para la vida independiente y la participación comunitaria.

Este taller se llevará a cabo utilizando Zoom. Después de registrarse, recibirá una invitación para unirse a la reunión de Zoom.
DTEND:20241219T150000
DTSTAMP:20260419T212647
DTSTART:20241219T130000
LAST-MODIFIED:20091109T101015Z
LOCATION:(ONLINE), , , , 
SUMMARY;LANGUAGE=en-us:Navegando ITPs y Servicios de Adultos WEBINAR
BEGIN:VALARM
TRIGGER:-PT1440M
ACTION:DISPLAY
DESCRIPTION:Reminder
END:VALARM
END:VEVENT
END:VCALENDAR
