BEGIN:VCALENDAR
BEGIN:VEVENT
CLASS:PUBLIC
CREATED:20260419T212132
DESCRIPTION:Muchos niños (y adultos) tienen dificultades con habilidades sociales y para la vida. Acompáñenos a esta sesión, en la que demostraremos aplicaciones que pueden ayudar con estas habilidades. El enfoque de la aplicación incluirá: aseo personal, quehaceres, decir la hora, marcar el 911, habilidades sociales y más. Se mostrarán aplicaciones para varias edades.

Este taller se llevará a cabo utilizando Zoom. Después de registrarse, recibirá una invitación para unirse a la reunión de Zoom.
DTEND:20241212T113000
DTSTAMP:20260419T212132
DTSTART:20241212T100000
LAST-MODIFIED:20091109T101015Z
LOCATION:(ONLINE), , , , 
SUMMARY;LANGUAGE=en-us:Aplicaciones de Habilidades Sociales y para la Vida WEBINAR
BEGIN:VALARM
TRIGGER:-PT1440M
ACTION:DISPLAY
DESCRIPTION:Reminder
END:VALARM
END:VEVENT
END:VCALENDAR
