BEGIN:VCALENDAR
BEGIN:VEVENT
CLASS:PUBLIC
CREATED:20260419T212003
DESCRIPTION:Muchos estudiantes no tienen acceso a CAA durante la niñez. Algunos reciben dispositivos en la escuela, pero los superan o los consideran inadecuados. La falta de formación y la frustración también pueden provocar el abandono del dispositivo. Otros necesitan nuevos sistemas CAA después de dejar la escuela. Este seminario web cubrirá el uso, los recursos y las ideas de CAA para adolescentes y adultos.

Este taller se llevará a cabo utilizando Zoom. Después de registrarse, recibirá una invitación para unirse a la reunión de Zoom.
DTEND:20241210T120000
DTSTAMP:20260419T212003
DTSTART:20241210T100000
LAST-MODIFIED:20091109T101015Z
LOCATION:(ONLINE), , , , 
SUMMARY;LANGUAGE=en-us:CAA para Jóvenes en Edad de Transición y Adultos WEBINAR
BEGIN:VALARM
TRIGGER:-PT1440M
ACTION:DISPLAY
DESCRIPTION:Reminder
END:VALARM
END:VEVENT
END:VCALENDAR
