BEGIN:VCALENDAR
BEGIN:VEVENT
CLASS:PUBLIC
CREATED:20260420T002647
DESCRIPTION:¡Jóvenes, este seminario web es para ustedes!

Los invitamos a unirse a nosotros para aprender cómo abogar por sí mismos y solicitar acomodaciones en el lugar de trabajo. Cubriremos la importancia de generar conciencia sobre las discapacidades, la auto-abogacía, la divulgación de discapacidades y cómo solicitar acomodaciones laborales.

Este taller se llevará a cabo utilizando Zoom. Después de registrarse, recibirá una invitación para unirse a la reunión de Zoom.
DTEND:20240925T180000
DTSTAMP:20260420T002647
DTSTART:20240925T160000
LAST-MODIFIED:20091109T101015Z
LOCATION:(ONLINE), , , , 
SUMMARY;LANGUAGE=en-us:Conciencia Sobre la Discapacidad y Autodefensa en el Lugar de Trabajo WEBINAR
BEGIN:VALARM
TRIGGER:-PT1440M
ACTION:DISPLAY
DESCRIPTION:Reminder
END:VALARM
END:VEVENT
END:VCALENDAR
