BEGIN:VCALENDAR
BEGIN:VEVENT
CLASS:PUBLIC
CREATED:20260420T020751
DESCRIPTION:Este taller proporciona una descripción general de la participación de los padres y del distrito en el proceso de evaluación de educación especial. Los asistentes al taller aprenderán sobre las leyes federales que rigen la educación especial y la Sección 504, los procesos de referencia y evaluación, y las opciones para resolver desacuerdos. Este taller se llevará a cabo utilizando Zoom. Después de registrarse, recibirá un enlace para unirse a la reunión de Zoom.

Este taller se llevará a cabo utilizando Zoom. Después de registrarse, recibirá una invitación para unirse a la reunión de Zoom.
DTEND:20240730T150000
DTSTAMP:20260420T020751
DTSTART:20240730T130000
LAST-MODIFIED:20091109T101015Z
LOCATION:(ONLINE), , , , 
SUMMARY;LANGUAGE=en-us:Proceso de Evaluación WEBINAR
BEGIN:VALARM
TRIGGER:-PT1440M
ACTION:DISPLAY
DESCRIPTION:Reminder
END:VALARM
END:VEVENT
END:VCALENDAR
