BEGIN:VCALENDAR
BEGIN:VEVENT
CLASS:PUBLIC
CREATED:20260419T225536
DESCRIPTION:This webinar provides an overview of parent and district participation in the special education assessment process. Workshop attendees will learn about the federal laws that govern special education and Section 504, the referral and assessment process, and options for resolving disagreements.

This workshop will be conducted using Zoom. After registering, you will receive an invitation to join the Zoom meeting.
DTEND:20241024T150000
DTSTAMP:20260419T225536
DTSTART:20241024T130000
LAST-MODIFIED:20091109T101015Z
LOCATION:(ONLINE), , , , 
SUMMARY;LANGUAGE=en-us:Assessment Process WEBINAR
BEGIN:VALARM
TRIGGER:-PT1440M
ACTION:DISPLAY
DESCRIPTION:Reminder
END:VALARM
END:VEVENT
END:VCALENDAR
